BEGIN:VCALENDAR
VERSION:2.0
PRODID:-//Pen Collectors of America - ECPv6.15.20//NONSGML v1.0//EN
CALSCALE:GREGORIAN
METHOD:PUBLISH
X-ORIGINAL-URL:https://pencollectorsofamerica.org
X-WR-CALDESC:Events for Pen Collectors of America
REFRESH-INTERVAL;VALUE=DURATION:PT1H
X-Robots-Tag:noindex
X-PUBLISHED-TTL:PT1H
BEGIN:VTIMEZONE
TZID:UTC
BEGIN:STANDARD
TZOFFSETFROM:+0000
TZOFFSETTO:+0000
TZNAME:UTC
DTSTART:20240101T000000
END:STANDARD
END:VTIMEZONE
BEGIN:VEVENT
DTSTART;VALUE=DATE:20251011
DTEND;VALUE=DATE:20251013
DTSTAMP:20260424T043137
CREATED:20241201T000049Z
LAST-MODIFIED:20241201T000049Z
UID:1883-1760140800-1760313599@pencollectorsofamerica.org
SUMMARY:London Autumn Pen Show 2025 (UK)
DESCRIPTION:
URL:https://pencollectorsofamerica.org/event/london-autumn-pen-show-2025-uk/
LOCATION:Novotel London West\, London\, United Kingdom
END:VEVENT
BEGIN:VEVENT
DTSTART;VALUE=DATE:20251011
DTEND;VALUE=DATE:20251013
DTSTAMP:20260424T043137
CREATED:20250917T001848Z
LAST-MODIFIED:20250917T001848Z
UID:1980-1760140800-1760313599@pencollectorsofamerica.org
SUMMARY:Empire State Pen Show 2025
DESCRIPTION:
URL:https://pencollectorsofamerica.org/event/empire-state-pen-show-2025/
LOCATION:New York Hilton Midtown\, 1335 6th Ave\, New York\, NY\, 10019\, United States
END:VEVENT
END:VCALENDAR