BEGIN:VCALENDAR
VERSION:2.0
PRODID:-//Pen Collectors of America - ECPv6.15.20//NONSGML v1.0//EN
CALSCALE:GREGORIAN
METHOD:PUBLISH
X-ORIGINAL-URL:https://pencollectorsofamerica.org
X-WR-CALDESC:Events for Pen Collectors of America
REFRESH-INTERVAL;VALUE=DURATION:PT1H
X-Robots-Tag:noindex
X-PUBLISHED-TTL:PT1H
BEGIN:VTIMEZONE
TZID:UTC
BEGIN:STANDARD
TZOFFSETFROM:+0000
TZOFFSETTO:+0000
TZNAME:UTC
DTSTART:20240101T000000
END:STANDARD
END:VTIMEZONE
BEGIN:VEVENT
DTSTART;VALUE=DATE:20251030
DTEND;VALUE=DATE:20251103
DTSTAMP:20260424T030045
CREATED:20241201T000225Z
LAST-MODIFIED:20241201T000225Z
UID:1887-1761782400-1762127999@pencollectorsofamerica.org
SUMMARY:Ohio Pen Show 2025
DESCRIPTION:Dates not 100% – confirm on website.
URL:https://pencollectorsofamerica.org/event/ohio-pen-show-2025/
LOCATION:Crowne Plaza Columbus North–Worthington\, OH\, United States
END:VEVENT
BEGIN:VEVENT
DTSTART;VALUE=DATE:20251101
DTEND;VALUE=DATE:20251104
DTSTAMP:20260424T030045
CREATED:20241120T215426Z
LAST-MODIFIED:20241130T233705Z
UID:1797-1761955200-1762214399@pencollectorsofamerica.org
SUMMARY:Tokyo International Pen Show 2025 (JP)
DESCRIPTION:
URL:https://pencollectorsofamerica.org/event/tokyo-pen-show-2025/
LOCATION:Tokyo Metropolitan Industrial Trade Center\, Hamamatsucho-kan 4F\, 1-7-1 Kaigan\, Minato-ku\, Tokyo\, 105-7501\, Japan
END:VEVENT
END:VCALENDAR