BEGIN:VCALENDAR
VERSION:2.0
PRODID:-//Pen Collectors of America - ECPv6.15.20//NONSGML v1.0//EN
CALSCALE:GREGORIAN
METHOD:PUBLISH
X-ORIGINAL-URL:https://pencollectorsofamerica.org
X-WR-CALDESC:Events for Pen Collectors of America
REFRESH-INTERVAL;VALUE=DURATION:PT1H
X-Robots-Tag:noindex
X-PUBLISHED-TTL:PT1H
BEGIN:VTIMEZONE
TZID:Europe/Helsinki
BEGIN:DAYLIGHT
TZOFFSETFROM:+0200
TZOFFSETTO:+0300
TZNAME:EEST
DTSTART:20240331T010000
END:DAYLIGHT
BEGIN:STANDARD
TZOFFSETFROM:+0300
TZOFFSETTO:+0200
TZNAME:EET
DTSTART:20241027T010000
END:STANDARD
BEGIN:DAYLIGHT
TZOFFSETFROM:+0200
TZOFFSETTO:+0300
TZNAME:EEST
DTSTART:20250330T010000
END:DAYLIGHT
BEGIN:STANDARD
TZOFFSETFROM:+0300
TZOFFSETTO:+0200
TZNAME:EET
DTSTART:20251026T010000
END:STANDARD
BEGIN:DAYLIGHT
TZOFFSETFROM:+0200
TZOFFSETTO:+0300
TZNAME:EEST
DTSTART:20260329T010000
END:DAYLIGHT
BEGIN:STANDARD
TZOFFSETFROM:+0300
TZOFFSETTO:+0200
TZNAME:EET
DTSTART:20261025T010000
END:STANDARD
END:VTIMEZONE
BEGIN:VTIMEZONE
TZID:UTC
BEGIN:STANDARD
TZOFFSETFROM:+0000
TZOFFSETTO:+0000
TZNAME:UTC
DTSTART:20240101T000000
END:STANDARD
END:VTIMEZONE
BEGIN:VEVENT
DTSTART;VALUE=DATE:20251122
DTEND;VALUE=DATE:20251123
DTSTAMP:20260424T045110
CREATED:20250409T135048Z
LAST-MODIFIED:20250409T205210Z
UID:1216-1763769600-1763855999@pencollectorsofamerica.org
SUMMARY:Hungary Pen Show 2025
DESCRIPTION:
URL:https://pencollectorsofamerica.org/event/hungary-pen-show-2025-2/
LOCATION:Lurdy Conference and Event Centre\, Könyves Kálmán krt. 12-14\, Budapest\, 1097\, Hungary
END:VEVENT
BEGIN:VEVENT
DTSTART;VALUE=DATE:20251128
DTEND;VALUE=DATE:20251130
DTSTAMP:20260424T045110
CREATED:20250223T084238Z
LAST-MODIFIED:20250917T001911Z
UID:1907-1764288000-1764460799@pencollectorsofamerica.org
SUMMARY:Singapore Pen Show 2025 (SG)
DESCRIPTION:
URL:https://pencollectorsofamerica.org/event/singapore-pen-show-2025/
LOCATION:SUNTEC SINGAPORE\, Suntec Singapore\, Singapore\, 039593\, Singapore
END:VEVENT
BEGIN:VEVENT
DTSTART;VALUE=DATE:20260116
DTEND;VALUE=DATE:20260119
DTSTAMP:20260424T045110
CREATED:20260316T031457Z
LAST-MODIFIED:20260316T031457Z
UID:2047-1768521600-1768780799@pencollectorsofamerica.org
SUMMARY:Philly Pen Show 2026
DESCRIPTION:
URL:https://pencollectorsofamerica.org/event/philly-pen-show-2026/
LOCATION:Sheraton Philadelphia Downtown\, PA\, United States
END:VEVENT
BEGIN:VEVENT
DTSTART;VALUE=DATE:20260124
DTEND;VALUE=DATE:20260125
DTSTAMP:20260424T045110
CREATED:20260316T031743Z
LAST-MODIFIED:20260316T031743Z
UID:2052-1769212800-1769299199@pencollectorsofamerica.org
SUMMARY:Munich Pen Show 2026 (DE)
DESCRIPTION:
URL:https://pencollectorsofamerica.org/event/munich-pen-show-2026-de/
LOCATION:Alpen Hotel München\, Adolf-Kolping-Straße 14\, Munich\, 80336\, Germany
ORGANIZER;CN="Christian Ott":MAILTO:ottchrist@aol.com
END:VEVENT
BEGIN:VEVENT
DTSTART;VALUE=DATE:20260219
DTEND;VALUE=DATE:20260224
DTSTAMP:20260424T045110
CREATED:20260316T031838Z
LAST-MODIFIED:20260316T031838Z
UID:2054-1771459200-1771891199@pencollectorsofamerica.org
SUMMARY:California Pen Show 2026
DESCRIPTION:
URL:https://pencollectorsofamerica.org/event/california-pen-show-2026/
LOCATION:Torrance Marriott Redondo Beach\, CA\, United States
END:VEVENT
BEGIN:VEVENT
DTSTART;VALUE=DATE:20260301
DTEND;VALUE=DATE:20260302
DTSTAMP:20260424T045110
CREATED:20260316T032232Z
LAST-MODIFIED:20260316T032232Z
UID:2056-1772323200-1772409599@pencollectorsofamerica.org
SUMMARY:London Spring Show 2026 (UK)
DESCRIPTION:
URL:https://pencollectorsofamerica.org/event/london-spring-show-2026-uk/
LOCATION:Novotel London West\, London\, United Kingdom
END:VEVENT
BEGIN:VEVENT
DTSTART;VALUE=DATE:20260306
DTEND;VALUE=DATE:20260309
DTSTAMP:20260424T045110
CREATED:20260316T032337Z
LAST-MODIFIED:20260316T032337Z
UID:2058-1772755200-1773014399@pencollectorsofamerica.org
SUMMARY:Baltimore/Washington International Pen Show 2026
DESCRIPTION:
URL:https://pencollectorsofamerica.org/event/baltimore-2026/
LOCATION:BWI Airport Marriott\, 1743 West Nursery Road\, Linthicum\, MD\, 21090\, United States
END:VEVENT
BEGIN:VEVENT
DTSTART;TZID=UTC:20260316T000000
DTEND;TZID=UTC:20260316T170000
DTSTAMP:20260424T045110
CREATED:20260316T035648Z
LAST-MODIFIED:20260316T035648Z
UID:2111-1773619200-1773680400@pencollectorsofamerica.org
SUMMARY:Ohio Pen Show 2026 - DATE TBD
DESCRIPTION:
URL:https://pencollectorsofamerica.org/event/ohio-pen-show-2026-date-tbd/
LOCATION:Crowne Plaza Columbus North–Worthington\, OH\, United States
END:VEVENT
BEGIN:VEVENT
DTSTART;TZID=UTC:20260316T080000
DTEND;TZID=UTC:20260316T170000
DTSTAMP:20260424T045110
CREATED:20260316T032524Z
LAST-MODIFIED:20260316T032524Z
UID:2060-1773648000-1773680400@pencollectorsofamerica.org
SUMMARY:Manila Pen Show 2026 (PH)
DESCRIPTION:
URL:https://pencollectorsofamerica.org/event/mips-2026/
LOCATION:Fairmont Makati\, 1\, Raffles Drive\, Makati\, 1224 Metro Manila\, Philippines
END:VEVENT
BEGIN:VEVENT
DTSTART;VALUE=DATE:20260320
DTEND;VALUE=DATE:20260323
DTSTAMP:20260424T045110
CREATED:20260316T032812Z
LAST-MODIFIED:20260316T032812Z
UID:2063-1773964800-1774223999@pencollectorsofamerica.org
SUMMARY:Arkansas Pen Show 2026
DESCRIPTION:
URL:https://pencollectorsofamerica.org/event/arkansas-pen-show-2026/
LOCATION:Four Points by Sheraton Little Rock Midtown\, 925 S University Ave\, Little Rock\, AR\, 72204
END:VEVENT
BEGIN:VEVENT
DTSTART;VALUE=DATE:20260321
DTEND;VALUE=DATE:20260322
DTSTAMP:20260424T045110
CREATED:20260316T032923Z
LAST-MODIFIED:20260316T032923Z
UID:2066-1774051200-1774137599@pencollectorsofamerica.org
SUMMARY:Cologne Pen Show 2026 (DE)
DESCRIPTION:
URL:https://pencollectorsofamerica.org/event/cologne-pen-show-2026/
LOCATION:Leonardo Royal Hotel\, Dürener Str. 287\, Köln\, 50935\, Germany
END:VEVENT
BEGIN:VEVENT
DTSTART;VALUE=DATE:20260327
DTEND;VALUE=DATE:20260330
DTSTAMP:20260424T045110
CREATED:20260119T013849Z
LAST-MODIFIED:20260119T013849Z
UID:2030-1774569600-1774828799@pencollectorsofamerica.org
SUMMARY:San Francisco Stationery Fest
DESCRIPTION:
URL:https://pencollectorsofamerica.org/event/san-francisco-stationery-fest/
LOCATION:The Westin San Francisco Airport Hotel\, 1 Old Bayshore Hwy\, Millbrae\, CA\, 94030\, United States
END:VEVENT
BEGIN:VEVENT
DTSTART;VALUE=DATE:20260327
DTEND;VALUE=DATE:20260330
DTSTAMP:20260424T045110
CREATED:20260316T033013Z
LAST-MODIFIED:20260316T033013Z
UID:2068-1774569600-1774828799@pencollectorsofamerica.org
SUMMARY:Atlanta Pen Show 2026
DESCRIPTION:
URL:https://pencollectorsofamerica.org/event/atlanta-pen-show-2026/
LOCATION:Sonesta Atlanta Northwest\, GA\, United States
END:VEVENT
BEGIN:VEVENT
DTSTART;VALUE=DATE:20260426
DTEND;VALUE=DATE:20260427
DTSTAMP:20260424T045110
CREATED:20260316T033139Z
LAST-MODIFIED:20260316T033139Z
UID:2070-1777161600-1777247999@pencollectorsofamerica.org
SUMMARY:Northern (UK) Pen Show 2026
DESCRIPTION:
URL:https://pencollectorsofamerica.org/event/northern-uk-pen-show-2026/
LOCATION:Chester Crowne Plaza\, Trinity St\, Chester\, CH1 2BD\,\, United Kingdom
END:VEVENT
BEGIN:VEVENT
DTSTART;VALUE=DATE:20260503
DTEND;VALUE=DATE:20260504
DTSTAMP:20260424T045110
CREATED:20260316T033226Z
LAST-MODIFIED:20260316T033226Z
UID:2073-1777766400-1777852799@pencollectorsofamerica.org
SUMMARY:Chicago Pen Show 2026
DESCRIPTION:
URL:https://pencollectorsofamerica.org/event/chicago-pen-show-2026/
LOCATION:Doubletree by Hilton Chicago Oak Brook\, 1909 Spring Rd\, Oak Brook\, IL\, 60523\, United States
END:VEVENT
BEGIN:VEVENT
DTSTART;VALUE=DATE:20260509
DTEND;VALUE=DATE:20260510
DTSTAMP:20260424T045110
CREATED:20260316T033335Z
LAST-MODIFIED:20260316T033335Z
UID:2075-1778284800-1778371199@pencollectorsofamerica.org
SUMMARY:Nuremberg Pen Show 2026 (DE)
DESCRIPTION:
URL:https://pencollectorsofamerica.org/event/nuremberg-pen-show-2026-de/
LOCATION:Merks Motor Museum\, Klingenhofstraße 51\, Nürnberg\, 90411\, Germany
END:VEVENT
BEGIN:VEVENT
DTSTART;VALUE=DATE:20260604
DTEND;VALUE=DATE:20260608
DTSTAMP:20260424T045110
CREATED:20260316T033434Z
LAST-MODIFIED:20260316T033434Z
UID:2077-1780531200-1780876799@pencollectorsofamerica.org
SUMMARY:Triangle Pen Show 2026
DESCRIPTION:
URL:https://pencollectorsofamerica.org/event/triangle-pen-show-2026/
LOCATION:DoubleTree by Hilton Hotel Raleigh-Durham Airport at Research Triangle Park\, 4810 Page Creek Ln\, Durham\, NC\, 27703\, United States
END:VEVENT
BEGIN:VEVENT
DTSTART;VALUE=DATE:20260606
DTEND;VALUE=DATE:20260608
DTSTAMP:20260424T045110
CREATED:20260316T033537Z
LAST-MODIFIED:20260316T033537Z
UID:2079-1780704000-1780876799@pencollectorsofamerica.org
SUMMARY:Dutch Pen Show 2026 (NL)
DESCRIPTION:
URL:https://pencollectorsofamerica.org/event/dutch-pen-show-2026-nl/
LOCATION:Van der Valk Hotel\, Winthontlaan 4\, Utrecht\, 3526 KV\, Netherlands
END:VEVENT
BEGIN:VEVENT
DTSTART;VALUE=DATE:20260625
DTEND;VALUE=DATE:20260629
DTSTAMP:20260424T045110
CREATED:20260316T033626Z
LAST-MODIFIED:20260316T033626Z
UID:2081-1782345600-1782691199@pencollectorsofamerica.org
SUMMARY:St Louis Pen Show 2026
DESCRIPTION:
URL:https://pencollectorsofamerica.org/event/st-louis-pen-show-2026/
LOCATION:Sheraton Westport Lakeside Chalet Hotel\, 191 W Port Plaza Dr\, St. Louis\, MO\, 63146\, United States
END:VEVENT
BEGIN:VEVENT
DTSTART;VALUE=DATE:20260627
DTEND;VALUE=DATE:20260628
DTSTAMP:20260424T045110
CREATED:20260316T034022Z
LAST-MODIFIED:20260316T034022Z
UID:2083-1782518400-1782604799@pencollectorsofamerica.org
SUMMARY:Cheltenham Pen Show 2026 (UK)
DESCRIPTION:
URL:https://pencollectorsofamerica.org/event/cheltenham-pen-show-2026-uk/
LOCATION:Cheltenham Racecourse\, Evesham Rd\, Cheltenham\, GL50 4SH\, United Kingdom
END:VEVENT
BEGIN:VEVENT
DTSTART;VALUE=DATE:20260710
DTEND;VALUE=DATE:20260713
DTSTAMP:20260424T045110
CREATED:20260316T034209Z
LAST-MODIFIED:20260316T034209Z
UID:2086-1783641600-1783900799@pencollectorsofamerica.org
SUMMARY:Pacific Northwest Pen Show 2026
DESCRIPTION:
URL:https://pencollectorsofamerica.org/event/pnw-2026/
LOCATION:Sheraton Airport Hotel\, Portland\, 8235 NE Airport Way\, Portland\, Oregon\, 97220\, United States
END:VEVENT
BEGIN:VEVENT
DTSTART;VALUE=DATE:20260806
DTEND;VALUE=DATE:20260810
DTSTAMP:20260424T045110
CREATED:20260316T034307Z
LAST-MODIFIED:20260316T034502Z
UID:2089-1785974400-1786319999@pencollectorsofamerica.org
SUMMARY:Washington D.C. Fountain Pen Supershow 2026
DESCRIPTION:
URL:https://pencollectorsofamerica.org/event/dc-supershow-2026/
LOCATION:Marriot Fair View Park\, Falls Church\, VA\, United States
END:VEVENT
BEGIN:VEVENT
DTSTART;VALUE=DATE:20260821
DTEND;VALUE=DATE:20260824
DTSTAMP:20260424T045110
CREATED:20260316T034438Z
LAST-MODIFIED:20260316T034438Z
UID:2091-1787270400-1787529599@pencollectorsofamerica.org
SUMMARY:Miami Pen Show 2026
DESCRIPTION:
URL:https://pencollectorsofamerica.org/event/miami-pen-show-2026/
LOCATION:Hilton Ft. Lauderdale Marina Hotel\, 1881 SE 17th Street\, Fort Lauderdale\, FL\, 33316\, United States
END:VEVENT
BEGIN:VEVENT
DTSTART;VALUE=DATE:20260823
DTEND;VALUE=DATE:20260824
DTSTAMP:20260424T045110
CREATED:20260316T034549Z
LAST-MODIFIED:20260316T034640Z
UID:2093-1787443200-1787529599@pencollectorsofamerica.org
SUMMARY:Newcastle Pen Show 2026 (UK)
DESCRIPTION:
URL:https://pencollectorsofamerica.org/event/newcastle-pen-show-2026-uk/
LOCATION:The Village Hotel\, Newcastle upon Tyne\, 10 The Silverlink N\, West Allotment\, Newcastle upon Tyne\, NE27 0BY\, United Kingdom
END:VEVENT
BEGIN:VEVENT
DTSTART;VALUE=DATE:20260827
DTEND;VALUE=DATE:20260831
DTSTAMP:20260424T045110
CREATED:20260119T013753Z
LAST-MODIFIED:20260119T013753Z
UID:2028-1787788800-1788134399@pencollectorsofamerica.org
SUMMARY:San Francisco International Pen Show 2026
DESCRIPTION:
URL:https://pencollectorsofamerica.org/event/san-francisco-international-pen-show-2026/
LOCATION:OH
ORGANIZER;CN="San Francisco International Pen Show":MAILTO:sfpenshow@gmail.com
END:VEVENT
BEGIN:VEVENT
DTSTART;VALUE=DATE:20260910
DTEND;VALUE=DATE:20260914
DTSTAMP:20260424T045110
CREATED:20260316T034726Z
LAST-MODIFIED:20260316T034726Z
UID:2095-1788998400-1789343999@pencollectorsofamerica.org
SUMMARY:Orlando Pen Show 2026
DESCRIPTION:
URL:https://pencollectorsofamerica.org/event/orlando-pen-show-2026/
LOCATION:Florida Hotel and Conference Center\, FL\, United States
END:VEVENT
BEGIN:VEVENT
DTSTART;VALUE=DATE:20260919
DTEND;VALUE=DATE:20260921
DTSTAMP:20260424T045110
CREATED:20260316T034838Z
LAST-MODIFIED:20260316T034838Z
UID:2097-1789776000-1789948799@pencollectorsofamerica.org
SUMMARY:Commonwealth Pen Show 2026
DESCRIPTION:
URL:https://pencollectorsofamerica.org/event/commonwealth-2026/
LOCATION:Center for the Arts / Somerville Armory\, 191 Highland Avenue\, Somerville\, MA\, 02143\, United States
END:VEVENT
BEGIN:VEVENT
DTSTART;VALUE=DATE:20260924
DTEND;VALUE=DATE:20260928
DTSTAMP:20260424T045110
CREATED:20260316T034947Z
LAST-MODIFIED:20260316T034947Z
UID:2099-1790208000-1790553599@pencollectorsofamerica.org
SUMMARY:Dallas Pen Show 2026
DESCRIPTION:
URL:https://pencollectorsofamerica.org/event/dallas-pen-show-2026/
LOCATION:DoubleTree Dallas Galleria\, 4099 Valley View Ln\, Dallas\, TX\, 75244\, United States
END:VEVENT
BEGIN:VEVENT
DTSTART;VALUE=DATE:20261002
DTEND;VALUE=DATE:20261005
DTSTAMP:20260424T045110
CREATED:20260316T035023Z
LAST-MODIFIED:20260316T035023Z
UID:2101-1790899200-1791158399@pencollectorsofamerica.org
SUMMARY:Detroit Pen Show 2026
DESCRIPTION:
URL:https://pencollectorsofamerica.org/event/detroit-pen-show-2026/
LOCATION:Southfield Hilton Garden Inn\, Southfield\, MI\, United States
END:VEVENT
BEGIN:VEVENT
DTSTART;VALUE=DATE:20261010
DTEND;VALUE=DATE:20261012
DTSTAMP:20260424T045110
CREATED:20260316T035104Z
LAST-MODIFIED:20260316T035104Z
UID:2103-1791590400-1791763199@pencollectorsofamerica.org
SUMMARY:London Autumn Pen Show 2026 (UK)
DESCRIPTION:
URL:https://pencollectorsofamerica.org/event/london-autumn-pen-show-2026-uk/
LOCATION:Novotel London West\, London\, United Kingdom
END:VEVENT
END:VCALENDAR