BEGIN:VCALENDAR
VERSION:2.0
PRODID:-//Pen Collectors of America - ECPv6.15.20//NONSGML v1.0//EN
CALSCALE:GREGORIAN
METHOD:PUBLISH
X-WR-CALNAME:Pen Collectors of America
X-ORIGINAL-URL:https://pencollectorsofamerica.org
X-WR-CALDESC:Events for Pen Collectors of America
REFRESH-INTERVAL;VALUE=DURATION:PT1H
X-Robots-Tag:noindex
X-PUBLISHED-TTL:PT1H
BEGIN:VTIMEZONE
TZID:UTC
BEGIN:STANDARD
TZOFFSETFROM:+0000
TZOFFSETTO:+0000
TZNAME:UTC
DTSTART:20250101T000000
END:STANDARD
END:VTIMEZONE
BEGIN:VEVENT
DTSTART;VALUE=DATE:20261113
DTEND;VALUE=DATE:20261116
DTSTAMP:20260424T000016
CREATED:20260316T035350Z
LAST-MODIFIED:20260316T035350Z
UID:2107-1794528000-1794787199@pencollectorsofamerica.org
SUMMARY:Madrid Pen Show 2026 (ES)
DESCRIPTION:
URL:https://pencollectorsofamerica.org/event/madrid-pen-show-2026-es/
LOCATION:Hotel Melía Castilla\, Calle del Poeta Joan Maragall\, 43\, Madrid\, 28020\, Spain
END:VEVENT
BEGIN:VEVENT
DTSTART;VALUE=DATE:20261121
DTEND;VALUE=DATE:20261122
DTSTAMP:20260424T000016
CREATED:20260316T035432Z
LAST-MODIFIED:20260316T035432Z
UID:2109-1795219200-1795305599@pencollectorsofamerica.org
SUMMARY:Hungary Pen Show 2026
DESCRIPTION:
URL:https://pencollectorsofamerica.org/event/hungary-pen-show-2026/
LOCATION:Lurdy Conference and Event Centre\, Könyves Kálmán krt. 12-14\, Budapest\, 1097\, Hungary
END:VEVENT
BEGIN:VEVENT
DTSTART;VALUE=DATE:20261121
DTEND;VALUE=DATE:20261124
DTSTAMP:20260424T000016
CREATED:20260316T031358Z
LAST-MODIFIED:20260316T031638Z
UID:1796-1795219200-1795478399@pencollectorsofamerica.org
SUMMARY:Tokyo Pen Show 2026 (JP)
DESCRIPTION:
URL:https://pencollectorsofamerica.org/event/tips2026/
LOCATION:Hamamatsucho Tokyo Metropolitan Industrial Trade Center\, Kaigan\, 1 Chome−7−1\, Minato City\, Tokyo\, 105-7501\, Japan
END:VEVENT
END:VCALENDAR