BEGIN:VCALENDAR
VERSION:2.0
PRODID:-//Pen Collectors of America - ECPv6.15.20//NONSGML v1.0//EN
CALSCALE:GREGORIAN
METHOD:PUBLISH
X-WR-CALNAME:Pen Collectors of America
X-ORIGINAL-URL:https://pencollectorsofamerica.org
X-WR-CALDESC:Events for Pen Collectors of America
REFRESH-INTERVAL;VALUE=DURATION:PT1H
X-Robots-Tag:noindex
X-PUBLISHED-TTL:PT1H
BEGIN:VTIMEZONE
TZID:UTC
BEGIN:STANDARD
TZOFFSETFROM:+0000
TZOFFSETTO:+0000
TZNAME:UTC
DTSTART:20220101T000000
END:STANDARD
END:VTIMEZONE
BEGIN:VTIMEZONE
TZID:America/New_York
BEGIN:DAYLIGHT
TZOFFSETFROM:-0500
TZOFFSETTO:-0400
TZNAME:EDT
DTSTART:20220313T070000
END:DAYLIGHT
BEGIN:STANDARD
TZOFFSETFROM:-0400
TZOFFSETTO:-0500
TZNAME:EST
DTSTART:20221106T060000
END:STANDARD
BEGIN:DAYLIGHT
TZOFFSETFROM:-0500
TZOFFSETTO:-0400
TZNAME:EDT
DTSTART:20230312T070000
END:DAYLIGHT
BEGIN:STANDARD
TZOFFSETFROM:-0400
TZOFFSETTO:-0500
TZNAME:EST
DTSTART:20231105T060000
END:STANDARD
BEGIN:DAYLIGHT
TZOFFSETFROM:-0500
TZOFFSETTO:-0400
TZNAME:EDT
DTSTART:20240310T070000
END:DAYLIGHT
BEGIN:STANDARD
TZOFFSETFROM:-0400
TZOFFSETTO:-0500
TZNAME:EST
DTSTART:20241103T060000
END:STANDARD
END:VTIMEZONE
BEGIN:VTIMEZONE
TZID:America/Denver
BEGIN:DAYLIGHT
TZOFFSETFROM:-0700
TZOFFSETTO:-0600
TZNAME:MDT
DTSTART:20220313T090000
END:DAYLIGHT
BEGIN:STANDARD
TZOFFSETFROM:-0600
TZOFFSETTO:-0700
TZNAME:MST
DTSTART:20221106T080000
END:STANDARD
BEGIN:DAYLIGHT
TZOFFSETFROM:-0700
TZOFFSETTO:-0600
TZNAME:MDT
DTSTART:20230312T090000
END:DAYLIGHT
BEGIN:STANDARD
TZOFFSETFROM:-0600
TZOFFSETTO:-0700
TZNAME:MST
DTSTART:20231105T080000
END:STANDARD
BEGIN:DAYLIGHT
TZOFFSETFROM:-0700
TZOFFSETTO:-0600
TZNAME:MDT
DTSTART:20240310T090000
END:DAYLIGHT
BEGIN:STANDARD
TZOFFSETFROM:-0600
TZOFFSETTO:-0700
TZNAME:MST
DTSTART:20241103T080000
END:STANDARD
END:VTIMEZONE
BEGIN:VTIMEZONE
TZID:Europe/London
BEGIN:DAYLIGHT
TZOFFSETFROM:+0000
TZOFFSETTO:+0100
TZNAME:BST
DTSTART:20220327T010000
END:DAYLIGHT
BEGIN:STANDARD
TZOFFSETFROM:+0100
TZOFFSETTO:+0000
TZNAME:GMT
DTSTART:20221030T010000
END:STANDARD
BEGIN:DAYLIGHT
TZOFFSETFROM:+0000
TZOFFSETTO:+0100
TZNAME:BST
DTSTART:20230326T010000
END:DAYLIGHT
BEGIN:STANDARD
TZOFFSETFROM:+0100
TZOFFSETTO:+0000
TZNAME:GMT
DTSTART:20231029T010000
END:STANDARD
BEGIN:DAYLIGHT
TZOFFSETFROM:+0000
TZOFFSETTO:+0100
TZNAME:BST
DTSTART:20240331T010000
END:DAYLIGHT
BEGIN:STANDARD
TZOFFSETFROM:+0100
TZOFFSETTO:+0000
TZNAME:GMT
DTSTART:20241027T010000
END:STANDARD
END:VTIMEZONE
BEGIN:VTIMEZONE
TZID:America/Los_Angeles
BEGIN:DAYLIGHT
TZOFFSETFROM:-0800
TZOFFSETTO:-0700
TZNAME:PDT
DTSTART:20220313T100000
END:DAYLIGHT
BEGIN:STANDARD
TZOFFSETFROM:-0700
TZOFFSETTO:-0800
TZNAME:PST
DTSTART:20221106T090000
END:STANDARD
BEGIN:DAYLIGHT
TZOFFSETFROM:-0800
TZOFFSETTO:-0700
TZNAME:PDT
DTSTART:20230312T100000
END:DAYLIGHT
BEGIN:STANDARD
TZOFFSETFROM:-0700
TZOFFSETTO:-0800
TZNAME:PST
DTSTART:20231105T090000
END:STANDARD
BEGIN:DAYLIGHT
TZOFFSETFROM:-0800
TZOFFSETTO:-0700
TZNAME:PDT
DTSTART:20240310T100000
END:DAYLIGHT
BEGIN:STANDARD
TZOFFSETFROM:-0700
TZOFFSETTO:-0800
TZNAME:PST
DTSTART:20241103T090000
END:STANDARD
END:VTIMEZONE
BEGIN:VEVENT
DTSTART;VALUE=DATE:20240620
DTEND;VALUE=DATE:20240624
DTSTAMP:20260423T203024
CREATED:20231201T032315Z
LAST-MODIFIED:20231201T032315Z
UID:1188-1718841600-1719187199@pencollectorsofamerica.org
SUMMARY:St. Louis Pen Show 2024
DESCRIPTION:
URL:https://pencollectorsofamerica.org/event/st-louis-pen-show-2024/
LOCATION:Sheraton Westport Lakeside Chalet Hotel\, 191 W Port Plaza Dr\, St. Louis\, MO\, 63146\, United States
END:VEVENT
BEGIN:VEVENT
DTSTART;VALUE=DATE:20240606
DTEND;VALUE=DATE:20240610
DTSTAMP:20260423T203024
CREATED:20231201T032758Z
LAST-MODIFIED:20240214T025243Z
UID:1194-1717632000-1717977599@pencollectorsofamerica.org
SUMMARY:Triangle Pen Show 2024
DESCRIPTION:
URL:https://pencollectorsofamerica.org/event/triangle-pen-show-2024/
LOCATION:DoubleTree by Hilton Hotel Raleigh-Durham Airport at Research Triangle Park\, 4810 Page Creek Ln\, Durham\, NC\, 27703\, United States
END:VEVENT
BEGIN:VEVENT
DTSTART;VALUE=DATE:20240602
DTEND;VALUE=DATE:20240603
DTSTAMP:20260423T203024
CREATED:20231201T032215Z
LAST-MODIFIED:20231201T032215Z
UID:1186-1717286400-1717372799@pencollectorsofamerica.org
SUMMARY:Dutch Pen Show 2024
DESCRIPTION:
URL:https://pencollectorsofamerica.org/event/dutch-pen-show-2024/
LOCATION:Van der Valk Hotel\, Winthontlaan 4\, Utrecht\, 3526 KV\, Netherlands
END:VEVENT
BEGIN:VEVENT
DTSTART;VALUE=DATE:20240511
DTEND;VALUE=DATE:20240512
DTSTAMP:20260423T203024
CREATED:20240219T062624Z
LAST-MODIFIED:20240219T062624Z
UID:1290-1715385600-1715471999@pencollectorsofamerica.org
SUMMARY:Nuremburg Pen Show 2024
DESCRIPTION:
URL:https://pencollectorsofamerica.org/event/nuremburg-pen-show-2024/
LOCATION:Merks Motor Museum\, Klingenhofstraße 51\, Nürnberg\, 90411\, Germany
END:VEVENT
BEGIN:VEVENT
DTSTART;VALUE=DATE:20240504
DTEND;VALUE=DATE:20240506
DTSTAMP:20260423T203024
CREATED:20231201T025950Z
LAST-MODIFIED:20231201T030009Z
UID:1182-1714780800-1714953599@pencollectorsofamerica.org
SUMMARY:Alpe Adria Pen Show 2024
DESCRIPTION:
URL:https://pencollectorsofamerica.org/event/alpe-adria-pen-show-2024/
LOCATION:Trieste\, Italy\, Trieste\, Italy
END:VEVENT
BEGIN:VEVENT
DTSTART;VALUE=DATE:20240502
DTEND;VALUE=DATE:20240506
DTSTAMP:20260423T203024
CREATED:20231201T025850Z
LAST-MODIFIED:20231201T025850Z
UID:1180-1714608000-1714953599@pencollectorsofamerica.org
SUMMARY:Chicago Pen Show 2024
DESCRIPTION:
URL:https://pencollectorsofamerica.org/event/chicago-pen-show-2024/
LOCATION:Chicago Marriott Northwest\, 4800 Hoffman Blvd\, Hoffman Estates\, IL\, 60192\, United States
END:VEVENT
BEGIN:VEVENT
DTSTART;VALUE=DATE:20240428
DTEND;VALUE=DATE:20240429
DTSTAMP:20260423T203024
CREATED:20231201T024815Z
LAST-MODIFIED:20231201T033335Z
UID:1166-1714262400-1714348799@pencollectorsofamerica.org
SUMMARY:Northern Pen Show 2024 (England)
DESCRIPTION:
URL:https://pencollectorsofamerica.org/event/northern-pen-show-2024/
LOCATION:DoubleTree By HIlton\, Chester\, Warrington Road\, Hoole\, Chester\, CH2 3PD\, United Kingdom
END:VEVENT
BEGIN:VEVENT
DTSTART;VALUE=DATE:20240406
DTEND;VALUE=DATE:20240408
DTSTAMP:20260423T203024
CREATED:20231201T025713Z
LAST-MODIFIED:20231201T025713Z
UID:1177-1712361600-1712534399@pencollectorsofamerica.org
SUMMARY:Pen Show Poland 2024
DESCRIPTION:
URL:https://pencollectorsofamerica.org/event/pen-show-poland-2024/
LOCATION:University of Silesia (Katowice)\, Bankowa 12\, Katowice\, 40-007\, Poland
END:VEVENT
BEGIN:VEVENT
DTSTART;VALUE=DATE:20240404
DTEND;VALUE=DATE:20240408
DTSTAMP:20260423T203024
CREATED:20231201T024500Z
LAST-MODIFIED:20231201T024840Z
UID:1164-1712188800-1712534399@pencollectorsofamerica.org
SUMMARY:Atlanta Pen Show 2024
DESCRIPTION:
URL:https://pencollectorsofamerica.org/event/atlanta-pen-show-2024/
LOCATION:Sonesta Atlanta Northwest\, GA\, United States
END:VEVENT
BEGIN:VEVENT
DTSTART;VALUE=DATE:20240322
DTEND;VALUE=DATE:20240325
DTSTAMP:20260423T203024
CREATED:20231201T024416Z
LAST-MODIFIED:20240320T214252Z
UID:1161-1711065600-1711324799@pencollectorsofamerica.org
SUMMARY:Arkansas Pen Show 2024
DESCRIPTION:
URL:https://pencollectorsofamerica.org/event/arkansas-pen-show-2024/
LOCATION:Four Points by Sheraton Little Rock Midtown\, 925 S University Ave\, Little Rock\, AR\, 72204
END:VEVENT
BEGIN:VEVENT
DTSTART;VALUE=DATE:20240316
DTEND;VALUE=DATE:20240317
DTSTAMP:20260423T203024
CREATED:20231201T024218Z
LAST-MODIFIED:20231201T024859Z
UID:1159-1710547200-1710633599@pencollectorsofamerica.org
SUMMARY:Cologne Pen Show 2024 (Germany)
DESCRIPTION:
URL:https://pencollectorsofamerica.org/event/cologne-pen-show-2024/
LOCATION:Leonardo Royal Hotel\, Dürener Str. 287\, Köln\, 50935\, Germany
END:VEVENT
BEGIN:VEVENT
DTSTART;VALUE=DATE:20240303
DTEND;VALUE=DATE:20240304
DTSTAMP:20260423T203024
CREATED:20231201T024127Z
LAST-MODIFIED:20231201T024917Z
UID:1157-1709424000-1709510399@pencollectorsofamerica.org
SUMMARY:London Spring Pen Show 2024 (England)
DESCRIPTION:
URL:https://pencollectorsofamerica.org/event/london-spring-pen-show-2024-uk/
LOCATION:Novotel London West\, London\, United Kingdom
END:VEVENT
BEGIN:VEVENT
DTSTART;VALUE=DATE:20240301
DTEND;VALUE=DATE:20240304
DTSTAMP:20260423T203024
CREATED:20231201T024046Z
LAST-MODIFIED:20231201T024931Z
UID:1155-1709251200-1709510399@pencollectorsofamerica.org
SUMMARY:Baltimore/Washington International Pen Show 2024
DESCRIPTION:
URL:https://pencollectorsofamerica.org/event/baltimore-washington-international-pen-show-2024/
LOCATION:BWI Airport Marriott\, 1743 West Nursery Road\, Linthicum\, MD\, 21090\, United States
END:VEVENT
BEGIN:VEVENT
DTSTART;VALUE=DATE:20240216
DTEND;VALUE=DATE:20240219
DTSTAMP:20260423T203024
CREATED:20231201T023842Z
LAST-MODIFIED:20231201T024835Z
UID:1152-1708041600-1708300799@pencollectorsofamerica.org
SUMMARY:California Pen Show 2024
DESCRIPTION:
URL:https://pencollectorsofamerica.org/event/california-pen-show-2024/
LOCATION:Torrance Marriott Redondo Beach\, CA\, United States
END:VEVENT
BEGIN:VEVENT
DTSTART;VALUE=DATE:20240112
DTEND;VALUE=DATE:20240115
DTSTAMP:20260423T203024
CREATED:20231201T023751Z
LAST-MODIFIED:20231201T024830Z
UID:1150-1705017600-1705276799@pencollectorsofamerica.org
SUMMARY:Philadelphia Pen Show 2024
DESCRIPTION:
URL:https://pencollectorsofamerica.org/event/philadelphia-pen-show-2024/
LOCATION:Sheraton Philadelphia Downtown\, PA\, United States
END:VEVENT
BEGIN:VEVENT
DTSTART;VALUE=DATE:20231203
DTEND;VALUE=DATE:20231204
DTSTAMP:20260423T203024
CREATED:20230313T195630Z
LAST-MODIFIED:20231201T024237Z
UID:1062-1701561600-1701647999@pencollectorsofamerica.org
SUMMARY:Yorkshire Pen Show 2023 (England)
DESCRIPTION:
URL:https://pencollectorsofamerica.org/event/yorkshire-pen-show-2023/
LOCATION:Crowne Plaza Royal Victoria\, Victoria Station Rd\, Sheffield\, S4 7YE\, United Kingdom
END:VEVENT
BEGIN:VEVENT
DTSTART;VALUE=DATE:20231103
DTEND;VALUE=DATE:20231106
DTSTAMP:20260423T203024
CREATED:20230313T195924Z
LAST-MODIFIED:20231201T024237Z
UID:1065-1698969600-1699228799@pencollectorsofamerica.org
SUMMARY:TIPS - Tokyo International Pen Show 2023 (Japan)
DESCRIPTION:
URL:https://pencollectorsofamerica.org/event/tips-2023/
LOCATION:Tokyo Metropolitan Industry and Trade Center Hamamatsucho Hall 4th and 5th floor\, Minato City\, Kaigan\, 1 Chome−7−1\, Tokyo\, 105-7501\, Japan
END:VEVENT
BEGIN:VEVENT
DTSTART;VALUE=DATE:20231102
DTEND;VALUE=DATE:20231106
DTSTAMP:20260423T203024
CREATED:20221101T170541Z
LAST-MODIFIED:20231201T024237Z
UID:935-1698883200-1699228799@pencollectorsofamerica.org
SUMMARY:Ohio Pen Show 2023
DESCRIPTION:
URL:https://pencollectorsofamerica.org/event/ohio-pen-show-2023/
LOCATION:Crowne Plaza Columbus North–Worthington\, OH\, United States
END:VEVENT
BEGIN:VEVENT
DTSTART;VALUE=DATE:20231028
DTEND;VALUE=DATE:20231030
DTSTAMP:20260423T203024
CREATED:20230120T064510Z
LAST-MODIFIED:20231201T024237Z
UID:1008-1698451200-1698623999@pencollectorsofamerica.org
SUMMARY:Turin Pen Show 2023
DESCRIPTION:
URL:https://pencollectorsofamerica.org/event/turin-pen-show-2023/
LOCATION:Hotel Concord\, Via Lagrange 47\, Turin\, Italy
END:VEVENT
BEGIN:VEVENT
DTSTART;VALUE=DATE:20231013
DTEND;VALUE=DATE:20231016
DTSTAMP:20260423T203024
CREATED:20221101T170747Z
LAST-MODIFIED:20231201T024237Z
UID:937-1697155200-1697414399@pencollectorsofamerica.org
SUMMARY:Colorado Pen Show 2023
DESCRIPTION:
URL:https://pencollectorsofamerica.org/event/colorado-pen-show-2023/
LOCATION:Embassy Suites Denver Central Park\, 4444 Havana St\, Denver\, 80239
END:VEVENT
BEGIN:VEVENT
DTSTART;VALUE=DATE:20231008
DTEND;VALUE=DATE:20231009
DTSTAMP:20260423T203024
CREATED:20221101T170701Z
LAST-MODIFIED:20231201T024237Z
UID:938-1696723200-1696809599@pencollectorsofamerica.org
SUMMARY:London Autumn Pen Show 2023
DESCRIPTION:
URL:https://pencollectorsofamerica.org/event/london-autumn-writing-equipment-show-2023/
LOCATION:Novotel London West\, London\, United Kingdom
END:VEVENT
BEGIN:VEVENT
DTSTART;VALUE=DATE:20231003
DTEND;VALUE=DATE:20231004
DTSTAMP:20260423T203024
CREATED:20230313T195133Z
LAST-MODIFIED:20231201T024237Z
UID:1059-1696291200-1696377599@pencollectorsofamerica.org
SUMMARY:Hamburg Pen Show 2023 (Germany)
DESCRIPTION:
URL:https://pencollectorsofamerica.org/event/hamburg-pen-show-2023/
LOCATION:Museum der Arbeit\, Wiesendamm 3\, Hamburg\, 22305\, Germany
ORGANIZER;CN="info@marktundkultur.de":MAILTO:info@markundkultur.de
END:VEVENT
BEGIN:VEVENT
DTSTART;VALUE=DATE:20230929
DTEND;VALUE=DATE:20231001
DTSTAMP:20260423T203024
CREATED:20230120T072836Z
LAST-MODIFIED:20231201T024237Z
UID:1016-1695945600-1696118399@pencollectorsofamerica.org
SUMMARY:Dallas Pen Show 2023
DESCRIPTION:
URL:https://pencollectorsofamerica.org/event/dallas-pen-show-2023/
LOCATION:DoubleTree Dallas Galleria\, 4099 Valley View Ln\, Dallas\, TX\, 75244\, United States
END:VEVENT
BEGIN:VEVENT
DTSTART;VALUE=DATE:20230909
DTEND;VALUE=DATE:20230911
DTSTAMP:20260423T203024
CREATED:20221101T171009Z
LAST-MODIFIED:20231201T024237Z
UID:943-1694217600-1694390399@pencollectorsofamerica.org
SUMMARY:Commonwealth Pen Show 2023 [CANCELLED]
DESCRIPTION:
URL:https://pencollectorsofamerica.org/event/commonwealth-pen-show-2023/
LOCATION:Holiday Inn Boston Bunker Hill Area\, 30 Washington St\, Somerville\, MA\, 02143\, United States
END:VEVENT
BEGIN:VEVENT
DTSTART;VALUE=DATE:20230907
DTEND;VALUE=DATE:20230910
DTSTAMP:20260423T203024
CREATED:20221101T171226Z
LAST-MODIFIED:20231201T024237Z
UID:945-1694044800-1694303999@pencollectorsofamerica.org
SUMMARY:Orlando Pen Show 2023
DESCRIPTION:
URL:https://pencollectorsofamerica.org/event/orlando-pen-show-2023/
LOCATION:Florida Hotel and Conference Center\, FL\, United States
END:VEVENT
BEGIN:VEVENT
DTSTART;VALUE=DATE:20230903
DTEND;VALUE=DATE:20230904
DTSTAMP:20260423T203024
CREATED:20230313T194855Z
LAST-MODIFIED:20231201T024237Z
UID:1053-1693699200-1693785599@pencollectorsofamerica.org
SUMMARY:Newcastle Pen Show 2023 (England)
DESCRIPTION:
URL:https://pencollectorsofamerica.org/event/newcastle-pen-show-2023/
LOCATION:Village Hotel\, Cobalt Business Park\, 10 The Silverlink N\, West Allotment\, Newcastle upon Tyne\, NE27 0BY
END:VEVENT
BEGIN:VEVENT
DTSTART;VALUE=DATE:20230825
DTEND;VALUE=DATE:20230828
DTSTAMP:20260423T203024
CREATED:20221101T171348Z
LAST-MODIFIED:20231201T024237Z
UID:947-1692921600-1693180799@pencollectorsofamerica.org
SUMMARY:San Francisco Pen Show 2023
DESCRIPTION:
URL:https://pencollectorsofamerica.org/event/sfpenshow-2023/
LOCATION:The Westin San Francisco Airport Hotel\, 1 Old Bayshore Hwy\, Millbrae\, CA\, 94030\, United States
END:VEVENT
BEGIN:VEVENT
DTSTART;VALUE=DATE:20230803
DTEND;VALUE=DATE:20230807
DTSTAMP:20260423T203024
CREATED:20221101T171443Z
LAST-MODIFIED:20231201T024237Z
UID:949-1691020800-1691366399@pencollectorsofamerica.org
SUMMARY:Washington DC Fountain Pen Supershow 2023
DESCRIPTION:
URL:https://pencollectorsofamerica.org/event/dc-show-2023/
LOCATION:Marriot Fair View Park\, Falls Church\, VA\, United States
END:VEVENT
BEGIN:VEVENT
DTSTART;VALUE=DATE:20230708
DTEND;VALUE=DATE:20230710
DTSTAMP:20260423T203024
CREATED:20230120T064821Z
LAST-MODIFIED:20231201T024237Z
UID:1012-1688774400-1688947199@pencollectorsofamerica.org
SUMMARY:Pacific Northwest Pen Show 2023
DESCRIPTION:Special events on July 7 and 10
URL:https://pencollectorsofamerica.org/event/pacific-northwest-pen-show-2023/
LOCATION:Embassy Suites by Hilton\, 319 SW Pine St\, Portland\, OR\, United States
END:VEVENT
BEGIN:VEVENT
DTSTART;VALUE=DATE:20230707
DTEND;VALUE=DATE:20230710
DTSTAMP:20260423T203024
CREATED:20221101T172138Z
LAST-MODIFIED:20231201T024237Z
UID:951-1688688000-1688947199@pencollectorsofamerica.org
SUMMARY:Miami Pen Show 2023
DESCRIPTION:
URL:https://pencollectorsofamerica.org/event/miami-pen-show-2023/
LOCATION:DoubleTree by Hilton Miami Airport\, 711 NW 72nd Ave\, Miami\, FL\, 33126\, United States
END:VEVENT
END:VCALENDAR