BEGIN:VCALENDAR
VERSION:2.0
PRODID:-//Pen Collectors of America - ECPv6.15.20//NONSGML v1.0//EN
CALSCALE:GREGORIAN
METHOD:PUBLISH
X-WR-CALNAME:Pen Collectors of America
X-ORIGINAL-URL:https://pencollectorsofamerica.org
X-WR-CALDESC:Events for Pen Collectors of America
REFRESH-INTERVAL;VALUE=DURATION:PT1H
X-Robots-Tag:noindex
X-PUBLISHED-TTL:PT1H
BEGIN:VTIMEZONE
TZID:UTC
BEGIN:STANDARD
TZOFFSETFROM:+0000
TZOFFSETTO:+0000
TZNAME:UTC
DTSTART:20210101T000000
END:STANDARD
END:VTIMEZONE
BEGIN:VTIMEZONE
TZID:America/Chicago
BEGIN:DAYLIGHT
TZOFFSETFROM:-0600
TZOFFSETTO:-0500
TZNAME:CDT
DTSTART:20220313T080000
END:DAYLIGHT
BEGIN:STANDARD
TZOFFSETFROM:-0500
TZOFFSETTO:-0600
TZNAME:CST
DTSTART:20221106T070000
END:STANDARD
BEGIN:DAYLIGHT
TZOFFSETFROM:-0600
TZOFFSETTO:-0500
TZNAME:CDT
DTSTART:20230312T080000
END:DAYLIGHT
BEGIN:STANDARD
TZOFFSETFROM:-0500
TZOFFSETTO:-0600
TZNAME:CST
DTSTART:20231105T070000
END:STANDARD
BEGIN:DAYLIGHT
TZOFFSETFROM:-0600
TZOFFSETTO:-0500
TZNAME:CDT
DTSTART:20240310T080000
END:DAYLIGHT
BEGIN:STANDARD
TZOFFSETFROM:-0500
TZOFFSETTO:-0600
TZNAME:CST
DTSTART:20241103T070000
END:STANDARD
END:VTIMEZONE
BEGIN:VTIMEZONE
TZID:America/New_York
BEGIN:DAYLIGHT
TZOFFSETFROM:-0500
TZOFFSETTO:-0400
TZNAME:EDT
DTSTART:20210314T070000
END:DAYLIGHT
BEGIN:STANDARD
TZOFFSETFROM:-0400
TZOFFSETTO:-0500
TZNAME:EST
DTSTART:20211107T060000
END:STANDARD
BEGIN:DAYLIGHT
TZOFFSETFROM:-0500
TZOFFSETTO:-0400
TZNAME:EDT
DTSTART:20220313T070000
END:DAYLIGHT
BEGIN:STANDARD
TZOFFSETFROM:-0400
TZOFFSETTO:-0500
TZNAME:EST
DTSTART:20221106T060000
END:STANDARD
BEGIN:DAYLIGHT
TZOFFSETFROM:-0500
TZOFFSETTO:-0400
TZNAME:EDT
DTSTART:20230312T070000
END:DAYLIGHT
BEGIN:STANDARD
TZOFFSETFROM:-0400
TZOFFSETTO:-0500
TZNAME:EST
DTSTART:20231105T060000
END:STANDARD
BEGIN:DAYLIGHT
TZOFFSETFROM:-0500
TZOFFSETTO:-0400
TZNAME:EDT
DTSTART:20240310T070000
END:DAYLIGHT
BEGIN:STANDARD
TZOFFSETFROM:-0400
TZOFFSETTO:-0500
TZNAME:EST
DTSTART:20241103T060000
END:STANDARD
END:VTIMEZONE
BEGIN:VTIMEZONE
TZID:Europe/London
BEGIN:DAYLIGHT
TZOFFSETFROM:+0000
TZOFFSETTO:+0100
TZNAME:BST
DTSTART:20210328T010000
END:DAYLIGHT
BEGIN:STANDARD
TZOFFSETFROM:+0100
TZOFFSETTO:+0000
TZNAME:GMT
DTSTART:20211031T010000
END:STANDARD
BEGIN:DAYLIGHT
TZOFFSETFROM:+0000
TZOFFSETTO:+0100
TZNAME:BST
DTSTART:20220327T010000
END:DAYLIGHT
BEGIN:STANDARD
TZOFFSETFROM:+0100
TZOFFSETTO:+0000
TZNAME:GMT
DTSTART:20221030T010000
END:STANDARD
BEGIN:DAYLIGHT
TZOFFSETFROM:+0000
TZOFFSETTO:+0100
TZNAME:BST
DTSTART:20230326T010000
END:DAYLIGHT
BEGIN:STANDARD
TZOFFSETFROM:+0100
TZOFFSETTO:+0000
TZNAME:GMT
DTSTART:20231029T010000
END:STANDARD
BEGIN:DAYLIGHT
TZOFFSETFROM:+0000
TZOFFSETTO:+0100
TZNAME:BST
DTSTART:20240331T010000
END:DAYLIGHT
BEGIN:STANDARD
TZOFFSETFROM:+0100
TZOFFSETTO:+0000
TZNAME:GMT
DTSTART:20241027T010000
END:STANDARD
END:VTIMEZONE
BEGIN:VTIMEZONE
TZID:Europe/Madrid
BEGIN:DAYLIGHT
TZOFFSETFROM:+0100
TZOFFSETTO:+0200
TZNAME:CEST
DTSTART:20210328T010000
END:DAYLIGHT
BEGIN:STANDARD
TZOFFSETFROM:+0200
TZOFFSETTO:+0100
TZNAME:CET
DTSTART:20211031T010000
END:STANDARD
BEGIN:DAYLIGHT
TZOFFSETFROM:+0100
TZOFFSETTO:+0200
TZNAME:CEST
DTSTART:20220327T010000
END:DAYLIGHT
BEGIN:STANDARD
TZOFFSETFROM:+0200
TZOFFSETTO:+0100
TZNAME:CET
DTSTART:20221030T010000
END:STANDARD
BEGIN:DAYLIGHT
TZOFFSETFROM:+0100
TZOFFSETTO:+0200
TZNAME:CEST
DTSTART:20230326T010000
END:DAYLIGHT
BEGIN:STANDARD
TZOFFSETFROM:+0200
TZOFFSETTO:+0100
TZNAME:CET
DTSTART:20231029T010000
END:STANDARD
END:VTIMEZONE
BEGIN:VTIMEZONE
TZID:America/Toronto
BEGIN:DAYLIGHT
TZOFFSETFROM:-0500
TZOFFSETTO:-0400
TZNAME:EDT
DTSTART:20210314T070000
END:DAYLIGHT
BEGIN:STANDARD
TZOFFSETFROM:-0400
TZOFFSETTO:-0500
TZNAME:EST
DTSTART:20211107T060000
END:STANDARD
BEGIN:DAYLIGHT
TZOFFSETFROM:-0500
TZOFFSETTO:-0400
TZNAME:EDT
DTSTART:20220313T070000
END:DAYLIGHT
BEGIN:STANDARD
TZOFFSETFROM:-0400
TZOFFSETTO:-0500
TZNAME:EST
DTSTART:20221106T060000
END:STANDARD
BEGIN:DAYLIGHT
TZOFFSETFROM:-0500
TZOFFSETTO:-0400
TZNAME:EDT
DTSTART:20230312T070000
END:DAYLIGHT
BEGIN:STANDARD
TZOFFSETFROM:-0400
TZOFFSETTO:-0500
TZNAME:EST
DTSTART:20231105T060000
END:STANDARD
END:VTIMEZONE
BEGIN:VTIMEZONE
TZID:America/Denver
BEGIN:DAYLIGHT
TZOFFSETFROM:-0700
TZOFFSETTO:-0600
TZNAME:MDT
DTSTART:20210314T090000
END:DAYLIGHT
BEGIN:STANDARD
TZOFFSETFROM:-0600
TZOFFSETTO:-0700
TZNAME:MST
DTSTART:20211107T080000
END:STANDARD
BEGIN:DAYLIGHT
TZOFFSETFROM:-0700
TZOFFSETTO:-0600
TZNAME:MDT
DTSTART:20220313T090000
END:DAYLIGHT
BEGIN:STANDARD
TZOFFSETFROM:-0600
TZOFFSETTO:-0700
TZNAME:MST
DTSTART:20221106T080000
END:STANDARD
BEGIN:DAYLIGHT
TZOFFSETFROM:-0700
TZOFFSETTO:-0600
TZNAME:MDT
DTSTART:20230312T090000
END:DAYLIGHT
BEGIN:STANDARD
TZOFFSETFROM:-0600
TZOFFSETTO:-0700
TZNAME:MST
DTSTART:20231105T080000
END:STANDARD
END:VTIMEZONE
BEGIN:VEVENT
DTSTART;VALUE=DATE:20230318
DTEND;VALUE=DATE:20230319
DTSTAMP:20260424T150120
CREATED:20230313T184537Z
LAST-MODIFIED:20230313T200809Z
UID:1028-1679097600-1679183999@pencollectorsofamerica.org
SUMMARY:Berlin Pen Party 2023
DESCRIPTION:
URL:https://pencollectorsofamerica.org/event/berlin-pen-party-2023/
LOCATION:Arminus Markthalle\, Arminiusstraße 2-4\, Berlin\, 10551\, Germany
ORGANIZER;CN="Tom Westerich":MAILTO:twesterich@gmail.com
END:VEVENT
BEGIN:VEVENT
DTSTART;VALUE=DATE:20230317
DTEND;VALUE=DATE:20230320
DTSTAMP:20260424T150120
CREATED:20221101T170443Z
LAST-MODIFIED:20221101T170443Z
UID:932-1679011200-1679270399@pencollectorsofamerica.org
SUMMARY:Arkansas Pen Show 2023
DESCRIPTION:
URL:https://pencollectorsofamerica.org/event/arkansas-pen-show-2023/
LOCATION:Delta Hotel by Marriot Little Rock West\, AR\, United States
END:VEVENT
BEGIN:VEVENT
DTSTART;TZID=UTC:20230313T080000
DTEND;TZID=UTC:20230313T170000
DTSTAMP:20260424T150120
CREATED:20230313T200427Z
LAST-MODIFIED:20230313T200427Z
UID:1068-1678694400-1678726800@pencollectorsofamerica.org
SUMMARY:Madrid Pen Show 2023 (Spain)
DESCRIPTION:
URL:https://pencollectorsofamerica.org/event/madrid-pen-show-2023-spain/
LOCATION:Hotel Melía Castilla\, Calle del Poeta Joan Maragall\, 43\, Madrid\, 28020\, Spain
END:VEVENT
BEGIN:VEVENT
DTSTART;VALUE=DATE:20230310
DTEND;VALUE=DATE:20230313
DTSTAMP:20260424T150120
CREATED:20221101T170419Z
LAST-MODIFIED:20221101T171303Z
UID:931-1678406400-1678665599@pencollectorsofamerica.org
SUMMARY:Baltimore/Washington Pen Show 2023
DESCRIPTION:
URL:https://pencollectorsofamerica.org/event/baltimore-pen-show-2023/
LOCATION:BWI Airport Marriott\, 1743 West Nursery Road\, Linthicum\, MD\, 21090\, United States
END:VEVENT
BEGIN:VEVENT
DTSTART;VALUE=DATE:20230305
DTEND;VALUE=DATE:20230306
DTSTAMP:20260424T150120
CREATED:20221101T170128Z
LAST-MODIFIED:20221101T170128Z
UID:929-1677974400-1678060799@pencollectorsofamerica.org
SUMMARY:London International Spring Pen Show 2023
DESCRIPTION:
URL:https://pencollectorsofamerica.org/event/london-international-spring-pen-show-2023/
LOCATION:Novotel London West\, London\, United Kingdom
END:VEVENT
BEGIN:VEVENT
DTSTART;VALUE=DATE:20230209
DTEND;VALUE=DATE:20230213
DTSTAMP:20260424T150120
CREATED:20221101T164500Z
LAST-MODIFIED:20221101T165635Z
UID:922-1675900800-1676246399@pencollectorsofamerica.org
SUMMARY:California Pen Show 2023
DESCRIPTION:
URL:https://pencollectorsofamerica.org/event/california-pen-show-2023/
LOCATION:Los Angeles Airport Marriott\, Los Angeles\, CA\, 90045
END:VEVENT
BEGIN:VEVENT
DTSTART;VALUE=DATE:20230113
DTEND;VALUE=DATE:20230116
DTSTAMP:20260424T150120
CREATED:20221101T164328Z
LAST-MODIFIED:20221101T164328Z
UID:919-1673568000-1673827199@pencollectorsofamerica.org
SUMMARY:Philadelphia Pen Show 2023
DESCRIPTION:
URL:https://pencollectorsofamerica.org/event/philadelphia-pen-show-2023/
LOCATION:Sheraton Philadelphia Downtown\, PA\, United States
END:VEVENT
BEGIN:VEVENT
DTSTART;VALUE=DATE:20221118
DTEND;VALUE=DATE:20221121
DTSTAMP:20260424T150120
CREATED:20220328T011021Z
LAST-MODIFIED:20220817T001811Z
UID:787-1668729600-1668988799@pencollectorsofamerica.org
SUMMARY:Madrid Pen Show 2022
DESCRIPTION:
URL:https://pencollectorsofamerica.org/event/madrid-pen-show-2022/
LOCATION:Hotel VP El Madrono\, Calle del General Díaz Porlier\, 101\, Madrid\, 28006\, Spain
END:VEVENT
BEGIN:VEVENT
DTSTART;VALUE=DATE:20221103
DTEND;VALUE=DATE:20221107
DTSTAMP:20260424T150120
CREATED:20220328T011021Z
LAST-MODIFIED:20220817T001811Z
UID:786-1667433600-1667779199@pencollectorsofamerica.org
SUMMARY:Ohio Pen Show 2022
DESCRIPTION:
URL:https://pencollectorsofamerica.org/event/ohio-pen-show-2022/
LOCATION:Crowne Plaza Columbus North–Worthington\, OH\, United States
END:VEVENT
BEGIN:VEVENT
DTSTART;VALUE=DATE:20221030
DTEND;VALUE=DATE:20221031
DTSTAMP:20260424T150120
CREATED:20220328T011021Z
LAST-MODIFIED:20220817T001811Z
UID:785-1667088000-1667174399@pencollectorsofamerica.org
SUMMARY:Scriptus 2022
DESCRIPTION:
URL:https://pencollectorsofamerica.org/event/scriptus-2022/
LOCATION:Bram & Bluma Appel Salon\, Toronto Reference Library\, Toronto\, Canada
END:VEVENT
BEGIN:VEVENT
DTSTART;VALUE=DATE:20221028
DTEND;VALUE=DATE:20221031
DTSTAMP:20260424T150120
CREATED:20220608T171645Z
LAST-MODIFIED:20220817T001811Z
UID:862-1666915200-1667174399@pencollectorsofamerica.org
SUMMARY:Detroit Pen Show 2022
DESCRIPTION:
URL:https://pencollectorsofamerica.org/event/detroit-pen-show-2022/
LOCATION:Southfield Hilton Garden Inn\, Southfield\, MI\, United States
END:VEVENT
BEGIN:VEVENT
DTSTART;VALUE=DATE:20221014
DTEND;VALUE=DATE:20221017
DTSTAMP:20260424T150120
CREATED:20220603T180428Z
LAST-MODIFIED:20221010T214204Z
UID:859-1665705600-1665964799@pencollectorsofamerica.org
SUMMARY:New York Metropolitan Pen Show (Long Island Pen Show) 2022
DESCRIPTION:Contact Mike Bloom at mikb79@aol.com
URL:https://pencollectorsofamerica.org/event/long-island-pen-show-2022/
LOCATION:Hofstra University Student Center\, Hempstead\, NY\, United States
END:VEVENT
BEGIN:VEVENT
DTSTART;VALUE=DATE:20221014
DTEND;VALUE=DATE:20221017
DTSTAMP:20260424T150120
CREATED:20220328T011021Z
LAST-MODIFIED:20220817T001811Z
UID:784-1665705600-1665964799@pencollectorsofamerica.org
SUMMARY:Colorado Pen Show 2022
DESCRIPTION:
URL:https://pencollectorsofamerica.org/event/colorado-pen-show-2022/
LOCATION:DoubleTree by Hilton Denver Central Park\, CO\, United States
END:VEVENT
BEGIN:VEVENT
DTSTART;VALUE=DATE:20221009
DTEND;VALUE=DATE:20221010
DTSTAMP:20260424T150120
CREATED:20220328T011021Z
LAST-MODIFIED:20220817T001811Z
UID:783-1665273600-1665359999@pencollectorsofamerica.org
SUMMARY:London Autumn Writing Equipment Show 2022
DESCRIPTION:
URL:https://pencollectorsofamerica.org/event/london-autumn-writing-equipment-show-2022/
LOCATION:Novotel London West\, London\, United Kingdom
END:VEVENT
END:VCALENDAR